BEGIN:VCALENDAR
VERSION:2.0
PRODID:-//Vini di Sicilia - Azienda Agricola Salvo - Principi di Mola - ECPv6.15.13//NONSGML v1.0//EN
CALSCALE:GREGORIAN
METHOD:PUBLISH
X-ORIGINAL-URL:https://www.principidimola.it/en
X-WR-CALDESC:Events for Vini di Sicilia - Azienda Agricola Salvo - Principi di Mola
REFRESH-INTERVAL;VALUE=DURATION:PT1H
X-Robots-Tag:noindex
X-PUBLISHED-TTL:PT1H
BEGIN:VTIMEZONE
TZID:UTC
BEGIN:STANDARD
TZOFFSETFROM:+0000
TZOFFSETTO:+0000
TZNAME:UTC
DTSTART:20230101T000000
END:STANDARD
END:VTIMEZONE
BEGIN:VEVENT
DTSTART;TZID=UTC:20240629T170000
DTEND;TZID=UTC:20240701T170000
DTSTAMP:20260424T160438
CREATED:20240625T105219Z
LAST-MODIFIED:20240827T120108Z
UID:3452-1719680400-1719853200@www.principidimola.it
SUMMARY:Sicilia in Bolle
DESCRIPTION:We will also be present at the tenth edition of «Sicilia in Bolle». \nIn the splendid setting of the Scala dei Turchi in Realmonte\, from Saturday 29 June to Monday 1 July\, he eagerly awaited and renowned oenological event will take place\, promoted by the AIS Sicilia\, which has established itself as the main summer event dedicated to Sicilian sparkling wines.
URL:https://www.principidimola.it/en/evento/sicilia-in-bolle
LOCATION:Scala dei Turchi\, Realmonte\, Italia
ATTACH;FMTTYPE=image/jpeg:https://www.principidimola.it/wp-content/uploads/2016/06/Sicilia_in_Bolle.jpg
ORGANIZER;CN="AIS SICILIA":MAILTO:presidenza@aissicilia.com
END:VEVENT
END:VCALENDAR